BEGIN:VCALENDAR
PRODID:-//HKUST Drupal Platform//EN
VERSION:2.0
BEGIN:VTIMEZONE
TZID:Asia/Hong_Kong
BEGIN:STANDARD
DTSTART:20071104T020000
TZOFFSETFROM:+0700
TZOFFSETTO:+0800
TZNAME:HKT
END:STANDARD
END:VTIMEZONE
BEGIN:VEVENT
DTSTAMP;TZID=Asia/Hong_Kong:20260420T112735
DTSTART;TZID=Asia/Hong_Kong:20220825T150000
DTEND;TZID=Asia/Hong_Kong:20220825T180000
LOCATION: , HKUST
SUMMARY:MPhil in Civil Engineering - Mechanisms of Visible-Light-Driven Photocatalytic Chlorine Activation Process: Roles of Photoinduced Species in Chlorine Activation and Radical Generation
UID:34952
END:VEVENT
END:VCALENDAR