BEGIN:VCALENDAR
PRODID:-//HKUST Drupal Platform//EN
VERSION:2.0
BEGIN:VTIMEZONE
TZID:Asia/Hong_Kong
BEGIN:STANDARD
DTSTART:20071104T020000
TZOFFSETFROM:+0700
TZOFFSETTO:+0800
TZNAME:HKT
END:STANDARD
END:VTIMEZONE
BEGIN:VEVENT
DTSTAMP;TZID=Asia/Hong_Kong:20260420T132900
DTSTART;TZID=Asia/Hong_Kong:20220818T100000
DTEND;TZID=Asia/Hong_Kong:20220818T130000
LOCATION: , HKUST
SUMMARY:MPhil in Civil Engineering - Long-Time Gap Crowd Prediction with Spatiotemporal Time Series Deep Learning Models
UID:34809
END:VEVENT
END:VCALENDAR