BEGIN:VCALENDAR
PRODID:-//HKUST Drupal Platform//EN
VERSION:2.0
BEGIN:VTIMEZONE
TZID:Asia/Hong_Kong
BEGIN:STANDARD
DTSTART:20071104T020000
TZOFFSETFROM:+0700
TZOFFSETTO:+0800
TZNAME:HKT
END:STANDARD
END:VTIMEZONE
BEGIN:VEVENT
DTSTAMP;TZID=Asia/Hong_Kong:20260420T180817
DTSTART;TZID=Asia/Hong_Kong:20220622T000000
DTEND;TZID=Asia/Hong_Kong:20220623T235900
LOCATION:The Mills, 45 Pak Tin Par St, Tsuen Wan
SUMMARY:Jockey Club Sustainable Campus Consumer Programme  - Tour to the Mills Fabrica
UID:34670
END:VEVENT
END:VCALENDAR