BEGIN:VCALENDAR
PRODID:-//HKUST Drupal Platform//EN
VERSION:2.0
BEGIN:VTIMEZONE
TZID:Asia/Hong_Kong
BEGIN:STANDARD
DTSTART:20071104T020000
TZOFFSETFROM:+0700
TZOFFSETTO:+0800
TZNAME:HKT
END:STANDARD
END:VTIMEZONE
BEGIN:VEVENT
DTSTAMP;TZID=Asia/Hong_Kong:20260420T221932
DTSTART;TZID=Asia/Hong_Kong:20220606T110000
DTEND;TZID=Asia/Hong_Kong:20220606T120000
LOCATION:Online
SUMMARY:Department of Chemistry - PhD Student Seminar - Nickel-based Catalysts for Ethanol Oxidation in Fuel Cells
UID:34612
END:VEVENT
END:VCALENDAR