BEGIN:VCALENDAR
PRODID:-//HKUST Drupal Platform//EN
VERSION:2.0
BEGIN:VTIMEZONE
TZID:Asia/Hong_Kong
BEGIN:STANDARD
DTSTART:20071104T020000
TZOFFSETFROM:+0700
TZOFFSETTO:+0800
TZNAME:HKT
END:STANDARD
END:VTIMEZONE
BEGIN:VEVENT
DTSTAMP;TZID=Asia/Hong_Kong:20260420T180838
DTSTART;TZID=Asia/Hong_Kong:20220509T000000
DTEND;TZID=Asia/Hong_Kong:20220710T235900
SUMMARY:Jockey Club Sustainable Campus Consumer Programme  - Sustainable Fashion Short Video Competition
UID:34452
END:VEVENT
END:VCALENDAR