BEGIN:VCALENDAR
PRODID:-//HKUST Drupal Platform//EN
VERSION:2.0
BEGIN:VTIMEZONE
TZID:Asia/Hong_Kong
BEGIN:STANDARD
DTSTART:20071104T020000
TZOFFSETFROM:+0700
TZOFFSETTO:+0800
TZNAME:HKT
END:STANDARD
END:VTIMEZONE
BEGIN:VEVENT
DTSTAMP;TZID=Asia/Hong_Kong:20260420T234244
DTSTART;TZID=Asia/Hong_Kong:20220420T110000
DTEND;TZID=Asia/Hong_Kong:20220420T120000
LOCATION:Online
SUMMARY:Department of Chemistry - PhD Student Seminar - Peptide and Protein Bioelectronics for Sensing Applications
UID:34305
END:VEVENT
END:VCALENDAR