BEGIN:VCALENDAR
PRODID:-//HKUST Drupal Platform//EN
VERSION:2.0
BEGIN:VTIMEZONE
TZID:Asia/Hong_Kong
BEGIN:STANDARD
DTSTART:20071104T020000
TZOFFSETFROM:+0700
TZOFFSETTO:+0800
TZNAME:HKT
END:STANDARD
END:VTIMEZONE
BEGIN:VEVENT
DTSTAMP;TZID=Asia/Hong_Kong:20260422T014427
DTSTART;TZID=Asia/Hong_Kong:20220207T133000
DTEND;TZID=Asia/Hong_Kong:20220207T143000
LOCATION:Meeting ID: 912 8916 7175, Passcode: AIT123
SUMMARY:AI Thrust Seminar| Trustworthy AI from the perspective of Fairness
UID:33866
END:VEVENT
END:VCALENDAR