BEGIN:VCALENDAR
PRODID:-//HKUST Drupal Platform//EN
VERSION:2.0
BEGIN:VTIMEZONE
TZID:Asia/Hong_Kong
BEGIN:STANDARD
DTSTART:20071104T020000
TZOFFSETFROM:+0700
TZOFFSETTO:+0800
TZNAME:HKT
END:STANDARD
END:VTIMEZONE
BEGIN:VEVENT
DTSTAMP;TZID=Asia/Hong_Kong:20260421T054025
DTSTART;TZID=Asia/Hong_Kong:20211210T150000
DTEND;TZID=Asia/Hong_Kong:20211210T170000
LOCATION:Online
SUMMARY:Department of Chemistry Seminar - Catalytic Stereoselective Access to Medium-sized Heterocycles: Discovery & Development
UID:33327
END:VEVENT
END:VCALENDAR