BEGIN:VCALENDAR
PRODID:-//HKUST Drupal Platform//EN
VERSION:2.0
BEGIN:VTIMEZONE
TZID:Asia/Hong_Kong
BEGIN:STANDARD
DTSTART:20071104T020000
TZOFFSETFROM:+0700
TZOFFSETTO:+0800
TZNAME:HKT
END:STANDARD
END:VTIMEZONE
BEGIN:VEVENT
DTSTAMP;TZID=Asia/Hong_Kong:20260420T152253
DTSTART;TZID=Asia/Hong_Kong:20211201T190000
DTEND;TZID=Asia/Hong_Kong:20211201T203000
LOCATION:Cheung On Tak Lecture Hall (LT-E), (張安德演講廳), Academic Building 1/F Near Lift 22
SUMMARY:XOR Open Arts Event Series  - Artists\' Film Screen Night: Geomancer by Lawrence Lek
UID:32875
END:VEVENT
END:VCALENDAR