BEGIN:VCALENDAR
PRODID:-//HKUST Drupal Platform//EN
VERSION:2.0
BEGIN:VTIMEZONE
TZID:Asia/Hong_Kong
BEGIN:STANDARD
DTSTART:20071104T020000
TZOFFSETFROM:+0700
TZOFFSETTO:+0800
TZNAME:HKT
END:STANDARD
END:VTIMEZONE
BEGIN:VEVENT
DTSTAMP;TZID=Asia/Hong_Kong:20260420T214844
DTSTART;TZID=Asia/Hong_Kong:20211123T100000
DTEND;TZID=Asia/Hong_Kong:20211123T113000
LOCATION:Room G012, G/F, Lee Shau Kee Business Building 
SUMMARY:Briefing Session of the Public Engagement on the Control of Single-use Plastics
UID:30334
END:VEVENT
END:VCALENDAR