BEGIN:VCALENDAR
PRODID:-//HKUST Drupal Platform//EN
VERSION:2.0
BEGIN:VTIMEZONE
TZID:Asia/Hong_Kong
BEGIN:STANDARD
DTSTART:20071104T020000
TZOFFSETFROM:+0700
TZOFFSETTO:+0800
TZNAME:HKT
END:STANDARD
END:VTIMEZONE
BEGIN:VEVENT
DTSTAMP;TZID=Asia/Hong_Kong:20260420T160511
DTSTART;TZID=Asia/Hong_Kong:20181025T123000
DTEND;TZID=Asia/Hong_Kong:20181025T140000
LOCATION:LG4 Common Room 1+2 (Lift 3)
SUMMARY:Green Team Lunch Gathering
UID:29267
END:VEVENT
END:VCALENDAR