BEGIN:VCALENDAR
PRODID:-//HKUST Drupal Platform//EN
VERSION:2.0
BEGIN:VTIMEZONE
TZID:Asia/Hong_Kong
BEGIN:STANDARD
DTSTART:20071104T020000
TZOFFSETFROM:+0700
TZOFFSETTO:+0800
TZNAME:HKT
END:STANDARD
END:VTIMEZONE
BEGIN:VEVENT
DTSTAMP;TZID=Asia/Hong_Kong:20260422T095751
DTSTART;TZID=Asia/Hong_Kong:20211101T093000
DTEND;TZID=Asia/Hong_Kong:20211101T110000
LOCATION:Rm1032, LSK Building
SUMMARY:Computational Media and Arts Seminar Series  - Sound as Material, Sound as Representation
UID:29172
END:VEVENT
END:VCALENDAR