BEGIN:VCALENDAR
PRODID:-//HKUST Drupal Platform//EN
VERSION:2.0
BEGIN:VTIMEZONE
TZID:Asia/Hong_Kong
BEGIN:STANDARD
DTSTART:20071104T020000
TZOFFSETFROM:+0700
TZOFFSETTO:+0800
TZNAME:HKT
END:STANDARD
END:VTIMEZONE
BEGIN:VEVENT
DTSTAMP;TZID=Asia/Hong_Kong:20260420T155734
DTSTART;TZID=Asia/Hong_Kong:20210924T163000
DTEND;TZID=Asia/Hong_Kong:20210924T183000
SUMMARY:Guest Seminar - Psychological Stress, Neurons and Inflammation: New Romance of the Three Kingdoms
UID:28979
END:VEVENT
END:VCALENDAR