BEGIN:VCALENDAR
PRODID:-//HKUST Drupal Platform//EN
VERSION:2.0
BEGIN:VTIMEZONE
TZID:Asia/Hong_Kong
BEGIN:STANDARD
DTSTART:20071104T020000
TZOFFSETFROM:+0700
TZOFFSETTO:+0800
TZNAME:HKT
END:STANDARD
END:VTIMEZONE
BEGIN:VEVENT
DTSTAMP;TZID=Asia/Hong_Kong:20260420T164043
DTSTART;TZID=Asia/Hong_Kong:20210916T143000
DTEND;TZID=Asia/Hong_Kong:20210916T173000
SUMMARY:香港科技大學-博智林聯合研究院 2021 前沿技術研討會 – 雙碳目標下的綠色建築和室內定位
UID:28878
END:VEVENT
END:VCALENDAR