BEGIN:VCALENDAR
PRODID:-//HKUST Drupal Platform//EN
VERSION:2.0
BEGIN:VTIMEZONE
TZID:Asia/Hong_Kong
BEGIN:STANDARD
DTSTART:20071104T020000
TZOFFSETFROM:+0700
TZOFFSETTO:+0800
TZNAME:HKT
END:STANDARD
END:VTIMEZONE
BEGIN:VEVENT
DTSTAMP;TZID=Asia/Hong_Kong:20260420T194047
DTSTART;TZID=Asia/Hong_Kong:20210909T163000
DTEND;TZID=Asia/Hong_Kong:20210909T173000
LOCATION:Online
SUMMARY:Department of Chemistry - PhD Student Seminar - Biochemical Analysis of Antibodies Associated with COVID-19
UID:28865
END:VEVENT
END:VCALENDAR