BEGIN:VCALENDAR
PRODID:-//HKUST Drupal Platform//EN
VERSION:2.0
BEGIN:VTIMEZONE
TZID:Asia/Hong_Kong
BEGIN:STANDARD
DTSTART:20071104T020000
TZOFFSETFROM:+0700
TZOFFSETTO:+0800
TZNAME:HKT
END:STANDARD
END:VTIMEZONE
BEGIN:VEVENT
DTSTAMP;TZID=Asia/Hong_Kong:20260420T160510
DTSTART;TZID=Asia/Hong_Kong:20210818T140000
DTEND;TZID=Asia/Hong_Kong:20210818T170000
LOCATION: , HKUST
SUMMARY:PHD in Civil Engineering - Application of BIM Technology for Multi-zone IAQ Assessment, Monitoring and Control in Non-residential Buildings
UID:28662
END:VEVENT
END:VCALENDAR