BEGIN:VCALENDAR
PRODID:-//HKUST Drupal Platform//EN
VERSION:2.0
BEGIN:VTIMEZONE
TZID:Asia/Hong_Kong
BEGIN:STANDARD
DTSTART:20071104T020000
TZOFFSETFROM:+0700
TZOFFSETTO:+0800
TZNAME:HKT
END:STANDARD
END:VTIMEZONE
BEGIN:VEVENT
DTSTAMP;TZID=Asia/Hong_Kong:20260420T143250
DTSTART;TZID=Asia/Hong_Kong:20210707T143000
DTEND;TZID=Asia/Hong_Kong:20210707T173000
LOCATION: , HKUST
SUMMARY:PHD in Civil Engineering - The Performance of Non-symmetric Thermally Loaded Energy Piled-raft in Clay: Centrifuge and Numerical Modelling
UID:28234
END:VEVENT
END:VCALENDAR