BEGIN:VCALENDAR
PRODID:-//HKUST Drupal Platform//EN
VERSION:2.0
BEGIN:VTIMEZONE
TZID:Asia/Hong_Kong
BEGIN:STANDARD
DTSTART:20071104T020000
TZOFFSETFROM:+0700
TZOFFSETTO:+0800
TZNAME:HKT
END:STANDARD
END:VTIMEZONE
BEGIN:VEVENT
DTSTAMP;TZID=Asia/Hong_Kong:20260420T035155
DTSTART;TZID=Asia/Hong_Kong:20210528T150000
DTEND;TZID=Asia/Hong_Kong:20210528T160000
LOCATION:Zoom Meeting ID: 990 1757 8440; Passcode: 341470
SUMMARY:PPOL - MPhil in Public Policy - Integrating GIS and Big Data to Create Personalised Mobile Applications for Assessing Health Risks
UID:27990
END:VEVENT
END:VCALENDAR