BEGIN:VCALENDAR
PRODID:-//HKUST Drupal Platform//EN
VERSION:2.0
BEGIN:VTIMEZONE
TZID:Asia/Hong_Kong
BEGIN:STANDARD
DTSTART:20071104T020000
TZOFFSETFROM:+0700
TZOFFSETTO:+0800
TZNAME:HKT
END:STANDARD
END:VTIMEZONE
BEGIN:VEVENT
DTSTAMP;TZID=Asia/Hong_Kong:20260420T192631
DTSTART;TZID=Asia/Hong_Kong:20210422T130000
DTEND;TZID=Asia/Hong_Kong:20210422T134500
LOCATION:Tsang Shiu Tim Art Hall, Hong Kong University of Science and Technology, Hong Kong
SUMMARY:HKUST Arts Festival 2021 - Art, Despite the Pandemic - My Dear with Passionate Eyes: an Afternoon of Central Asian Dance by Pasha Umer and Eugene Leung
UID:27780
END:VEVENT
END:VCALENDAR