BEGIN:VCALENDAR
PRODID:-//HKUST Drupal Platform//EN
VERSION:2.0
BEGIN:VTIMEZONE
TZID:Asia/Hong_Kong
BEGIN:STANDARD
DTSTART:20071104T020000
TZOFFSETFROM:+0700
TZOFFSETTO:+0800
TZNAME:HKT
END:STANDARD
END:VTIMEZONE
BEGIN:VEVENT
DTSTAMP;TZID=Asia/Hong_Kong:20260420T202533
DTSTART;TZID=Asia/Hong_Kong:20210330T090000
DTEND;TZID=Asia/Hong_Kong:20210330T110000
LOCATION:Room 6581-82 (Lift 27-28)/ Zoom (mixed mode)
SUMMARY:HKUST 2050 Net-Zero Carbon Workshop Series  - HKUST 2050 Net-Zero Carbon Kick-start Workshop
UID:27732
END:VEVENT
END:VCALENDAR