BEGIN:VCALENDAR
PRODID:-//HKUST Drupal Platform//EN
VERSION:2.0
BEGIN:VTIMEZONE
TZID:Asia/Hong_Kong
BEGIN:STANDARD
DTSTART:20071104T020000
TZOFFSETFROM:+0700
TZOFFSETTO:+0800
TZNAME:HKT
END:STANDARD
END:VTIMEZONE
BEGIN:VEVENT
DTSTAMP;TZID=Asia/Hong_Kong:20260420T164040
DTSTART;TZID=Asia/Hong_Kong:20210318T000000
DTEND;TZID=Asia/Hong_Kong:20210318T234500
LOCATION:Online
SUMMARY:HKUST Arts Festival 2021 - Art, Despite the Pandemic - Concert II -The Splendours of Italian and German Baroque Music by Concerto da Camera
UID:27707
END:VEVENT
BEGIN:VEVENT
DTSTAMP;TZID=Asia/Hong_Kong:20260420T164040
DTSTART;TZID=Asia/Hong_Kong:20210319T000000
DTEND;TZID=Asia/Hong_Kong:20210319T234500
LOCATION:Online
SUMMARY:HKUST Arts Festival 2021 - Art, Despite the Pandemic - Concert II -The Splendours of Italian and German Baroque Music by Concerto da Camera
UID:27707
END:VEVENT
BEGIN:VEVENT
DTSTAMP;TZID=Asia/Hong_Kong:20260420T164040
DTSTART;TZID=Asia/Hong_Kong:20210320T000000
DTEND;TZID=Asia/Hong_Kong:20210320T234500
LOCATION:Online
SUMMARY:HKUST Arts Festival 2021 - Art, Despite the Pandemic - Concert II -The Splendours of Italian and German Baroque Music by Concerto da Camera
UID:27707
END:VEVENT
BEGIN:VEVENT
DTSTAMP;TZID=Asia/Hong_Kong:20260420T164040
DTSTART;TZID=Asia/Hong_Kong:20210321T000000
DTEND;TZID=Asia/Hong_Kong:20210321T234500
LOCATION:Online
SUMMARY:HKUST Arts Festival 2021 - Art, Despite the Pandemic - Concert II -The Splendours of Italian and German Baroque Music by Concerto da Camera
UID:27707
END:VEVENT
BEGIN:VEVENT
DTSTAMP;TZID=Asia/Hong_Kong:20260420T164040
DTSTART;TZID=Asia/Hong_Kong:20210322T000000
DTEND;TZID=Asia/Hong_Kong:20210322T234500
LOCATION:Online
SUMMARY:HKUST Arts Festival 2021 - Art, Despite the Pandemic - Concert II -The Splendours of Italian and German Baroque Music by Concerto da Camera
UID:27707
END:VEVENT
BEGIN:VEVENT
DTSTAMP;TZID=Asia/Hong_Kong:20260420T164040
DTSTART;TZID=Asia/Hong_Kong:20210323T000000
DTEND;TZID=Asia/Hong_Kong:20210323T234500
LOCATION:Online
SUMMARY:HKUST Arts Festival 2021 - Art, Despite the Pandemic - Concert II -The Splendours of Italian and German Baroque Music by Concerto da Camera
UID:27707
END:VEVENT
BEGIN:VEVENT
DTSTAMP;TZID=Asia/Hong_Kong:20260420T164040
DTSTART;TZID=Asia/Hong_Kong:20210324T000000
DTEND;TZID=Asia/Hong_Kong:20210324T234500
LOCATION:Online
SUMMARY:HKUST Arts Festival 2021 - Art, Despite the Pandemic - Concert II -The Splendours of Italian and German Baroque Music by Concerto da Camera
UID:27707
END:VEVENT
BEGIN:VEVENT
DTSTAMP;TZID=Asia/Hong_Kong:20260420T164040
DTSTART;TZID=Asia/Hong_Kong:20210325T000000
DTEND;TZID=Asia/Hong_Kong:20210325T234500
LOCATION:Online
SUMMARY:HKUST Arts Festival 2021 - Art, Despite the Pandemic - Concert II -The Splendours of Italian and German Baroque Music by Concerto da Camera
UID:27707
END:VEVENT
END:VCALENDAR