BEGIN:VCALENDAR
PRODID:-//HKUST Drupal Platform//EN
VERSION:2.0
BEGIN:VTIMEZONE
TZID:Asia/Hong_Kong
BEGIN:STANDARD
DTSTART:20071104T020000
TZOFFSETFROM:+0700
TZOFFSETTO:+0800
TZNAME:HKT
END:STANDARD
END:VTIMEZONE
BEGIN:VEVENT
DTSTAMP;TZID=Asia/Hong_Kong:20260420T152252
DTSTART;TZID=Asia/Hong_Kong:20210319T103000
DTEND;TZID=Asia/Hong_Kong:20210319T114500
LOCATION:Online via Zoom ID: 936 7156 0391 (password 696939)
SUMMARY:Joint OM/IE Seminar  - Food Delivery Service and Restaurant: Friend or Foe?
UID:27624
END:VEVENT
END:VCALENDAR