BEGIN:VCALENDAR
PRODID:-//HKUST Drupal Platform//EN
VERSION:2.0
BEGIN:VTIMEZONE
TZID:Asia/Hong_Kong
BEGIN:STANDARD
DTSTART:20071104T020000
TZOFFSETFROM:+0700
TZOFFSETTO:+0800
TZNAME:HKT
END:STANDARD
END:VTIMEZONE
BEGIN:VEVENT
DTSTAMP;TZID=Asia/Hong_Kong:20260421T005416
DTSTART;TZID=Asia/Hong_Kong:20210324T170000
DTEND;TZID=Asia/Hong_Kong:20210324T180000
LOCATION:Online Via Zoom 
SUMMARY:UNIfy: Sustainable Living #New Normal Edition  - Smart Recycling
UID:27571
END:VEVENT
END:VCALENDAR