BEGIN:VCALENDAR
PRODID:-//HKUST Drupal Platform//EN
VERSION:2.0
BEGIN:VTIMEZONE
TZID:Asia/Hong_Kong
BEGIN:STANDARD
DTSTART:20071104T020000
TZOFFSETFROM:+0700
TZOFFSETTO:+0800
TZNAME:HKT
END:STANDARD
END:VTIMEZONE
BEGIN:VEVENT
DTSTAMP;TZID=Asia/Hong_Kong:20260420T215418
DTSTART;TZID=Asia/Hong_Kong:20210310T183000
DTEND;TZID=Asia/Hong_Kong:20210310T194500
LOCATION:Online Via Zoom 
SUMMARY:UNIfy: Sustainable Living # NewNormal Edition     - Building a Sustainable Future: What Psychology and Social Sciences Can Offer
UID:27562
END:VEVENT
END:VCALENDAR