BEGIN:VCALENDAR
PRODID:-//HKUST Drupal Platform//EN
VERSION:2.0
BEGIN:VTIMEZONE
TZID:Asia/Hong_Kong
BEGIN:STANDARD
DTSTART:20071104T020000
TZOFFSETFROM:+0700
TZOFFSETTO:+0800
TZNAME:HKT
END:STANDARD
END:VTIMEZONE
BEGIN:VEVENT
DTSTAMP;TZID=Asia/Hong_Kong:20260420T180905
DTSTART;TZID=Asia/Hong_Kong:20210222T090000
DTEND;TZID=Asia/Hong_Kong:20210222T230000
LOCATION:Collection Box outside the Sustainability Unit office (Room 2004, Lift 4)
SUMMARY:Chinese New Year Food Sharing
UID:27516
END:VEVENT
BEGIN:VEVENT
DTSTAMP;TZID=Asia/Hong_Kong:20260420T180905
DTSTART;TZID=Asia/Hong_Kong:20210223T090000
DTEND;TZID=Asia/Hong_Kong:20210223T230000
LOCATION:Collection Box outside the Sustainability Unit office (Room 2004, Lift 4)
SUMMARY:Chinese New Year Food Sharing
UID:27516
END:VEVENT
BEGIN:VEVENT
DTSTAMP;TZID=Asia/Hong_Kong:20260420T180905
DTSTART;TZID=Asia/Hong_Kong:20210224T090000
DTEND;TZID=Asia/Hong_Kong:20210224T230000
LOCATION:Collection Box outside the Sustainability Unit office (Room 2004, Lift 4)
SUMMARY:Chinese New Year Food Sharing
UID:27516
END:VEVENT
BEGIN:VEVENT
DTSTAMP;TZID=Asia/Hong_Kong:20260420T180905
DTSTART;TZID=Asia/Hong_Kong:20210225T090000
DTEND;TZID=Asia/Hong_Kong:20210225T230000
LOCATION:Collection Box outside the Sustainability Unit office (Room 2004, Lift 4)
SUMMARY:Chinese New Year Food Sharing
UID:27516
END:VEVENT
BEGIN:VEVENT
DTSTAMP;TZID=Asia/Hong_Kong:20260420T180905
DTSTART;TZID=Asia/Hong_Kong:20210226T090000
DTEND;TZID=Asia/Hong_Kong:20210226T230000
LOCATION:Collection Box outside the Sustainability Unit office (Room 2004, Lift 4)
SUMMARY:Chinese New Year Food Sharing
UID:27516
END:VEVENT
END:VCALENDAR