BEGIN:VCALENDAR
PRODID:-//HKUST Drupal Platform//EN
VERSION:2.0
BEGIN:VTIMEZONE
TZID:Asia/Hong_Kong
BEGIN:STANDARD
DTSTART:20071104T020000
TZOFFSETFROM:+0700
TZOFFSETTO:+0800
TZNAME:HKT
END:STANDARD
END:VTIMEZONE
BEGIN:VEVENT
DTSTAMP;TZID=Asia/Hong_Kong:20260420T221959
DTSTART;TZID=Asia/Hong_Kong:20210202T120000
DTEND;TZID=Asia/Hong_Kong:20210202T131500
LOCATION:Online
SUMMARY:CHEM Seminar - Multi-Scale and Multi-Approach Structural Tailoring of Metal Nanoclusters
UID:27427
END:VEVENT
END:VCALENDAR