BEGIN:VCALENDAR
PRODID:-//HKUST Drupal Platform//EN
VERSION:2.0
BEGIN:VTIMEZONE
TZID:Asia/Hong_Kong
BEGIN:STANDARD
DTSTART:20071104T020000
TZOFFSETFROM:+0700
TZOFFSETTO:+0800
TZNAME:HKT
END:STANDARD
END:VTIMEZONE
BEGIN:VEVENT
DTSTAMP;TZID=Asia/Hong_Kong:20260420T215417
DTSTART;TZID=Asia/Hong_Kong:20201116T090000
DTEND;TZID=Asia/Hong_Kong:20201116T235500
SUMMARY:Online Voting- Sustainable Smart Campus Student Competition 2020 
UID:27145
END:VEVENT
BEGIN:VEVENT
DTSTAMP;TZID=Asia/Hong_Kong:20260420T215417
DTSTART;TZID=Asia/Hong_Kong:20201117T090000
DTEND;TZID=Asia/Hong_Kong:20201117T235500
SUMMARY:Online Voting- Sustainable Smart Campus Student Competition 2020 
UID:27145
END:VEVENT
BEGIN:VEVENT
DTSTAMP;TZID=Asia/Hong_Kong:20260420T215417
DTSTART;TZID=Asia/Hong_Kong:20201118T090000
DTEND;TZID=Asia/Hong_Kong:20201118T235500
SUMMARY:Online Voting- Sustainable Smart Campus Student Competition 2020 
UID:27145
END:VEVENT
BEGIN:VEVENT
DTSTAMP;TZID=Asia/Hong_Kong:20260420T215417
DTSTART;TZID=Asia/Hong_Kong:20201119T090000
DTEND;TZID=Asia/Hong_Kong:20201119T235500
SUMMARY:Online Voting- Sustainable Smart Campus Student Competition 2020 
UID:27145
END:VEVENT
BEGIN:VEVENT
DTSTAMP;TZID=Asia/Hong_Kong:20260420T215417
DTSTART;TZID=Asia/Hong_Kong:20201120T090000
DTEND;TZID=Asia/Hong_Kong:20201120T235500
SUMMARY:Online Voting- Sustainable Smart Campus Student Competition 2020 
UID:27145
END:VEVENT
BEGIN:VEVENT
DTSTAMP;TZID=Asia/Hong_Kong:20260420T215417
DTSTART;TZID=Asia/Hong_Kong:20201121T090000
DTEND;TZID=Asia/Hong_Kong:20201121T235500
SUMMARY:Online Voting- Sustainable Smart Campus Student Competition 2020 
UID:27145
END:VEVENT
BEGIN:VEVENT
DTSTAMP;TZID=Asia/Hong_Kong:20260420T215417
DTSTART;TZID=Asia/Hong_Kong:20201122T090000
DTEND;TZID=Asia/Hong_Kong:20201122T235500
SUMMARY:Online Voting- Sustainable Smart Campus Student Competition 2020 
UID:27145
END:VEVENT
END:VCALENDAR