BEGIN:VCALENDAR
PRODID:-//HKUST Drupal Platform//EN
VERSION:2.0
BEGIN:VTIMEZONE
TZID:Asia/Hong_Kong
BEGIN:STANDARD
DTSTART:20071104T020000
TZOFFSETFROM:+0700
TZOFFSETTO:+0800
TZNAME:HKT
END:STANDARD
END:VTIMEZONE
BEGIN:VEVENT
DTSTAMP;TZID=Asia/Hong_Kong:20260420T132854
DTSTART;TZID=Asia/Hong_Kong:20170103T100000
DTEND;TZID=Asia/Hong_Kong:20170103T130000
LOCATION:Room 2463 (Lifts 25-26), 2/F Academic Building, HKUST
SUMMARY:PhD in Electronic and Computer Engineering - Non-linear Optical Signals from Large Biological Compounds: Mechanism and Applications
UID:26691
END:VEVENT
END:VCALENDAR