BEGIN:VCALENDAR
PRODID:-//HKUST Drupal Platform//EN
VERSION:2.0
BEGIN:VTIMEZONE
TZID:Asia/Hong_Kong
BEGIN:STANDARD
DTSTART:20071104T020000
TZOFFSETFROM:+0700
TZOFFSETTO:+0800
TZNAME:HKT
END:STANDARD
END:VTIMEZONE
BEGIN:VEVENT
DTSTAMP;TZID=Asia/Hong_Kong:20260420T180909
DTSTART;TZID=Asia/Hong_Kong:20170110T090000
DTEND;TZID=Asia/Hong_Kong:20170110T120000
LOCATION:Room 4502 (Lifts 25-26), 4/F Academic Building, HKUST
SUMMARY:MPhil in Life Science - Structure and Regulation of Myosin-7a and Myosin-18a
UID:26654
END:VEVENT
END:VCALENDAR