BEGIN:VCALENDAR
PRODID:-//HKUST Drupal Platform//EN
VERSION:2.0
BEGIN:VTIMEZONE
TZID:Asia/Hong_Kong
BEGIN:STANDARD
DTSTART:20071104T020000
TZOFFSETFROM:+0700
TZOFFSETTO:+0800
TZNAME:HKT
END:STANDARD
END:VTIMEZONE
BEGIN:VEVENT
DTSTAMP;TZID=Asia/Hong_Kong:20260420T132858
DTSTART;TZID=Asia/Hong_Kong:20170110T143000
DTEND;TZID=Asia/Hong_Kong:20170110T153000
LOCATION:Room 4503 (Lifts 25-26), 4/F of Academic Building, HKUST
SUMMARY:PhD in Physics - Phase Transition Due to PT Symmetry at Optical Frequency
UID:26647
END:VEVENT
END:VCALENDAR