BEGIN:VCALENDAR
PRODID:-//HKUST Drupal Platform//EN
VERSION:2.0
BEGIN:VTIMEZONE
TZID:Asia/Hong_Kong
BEGIN:STANDARD
DTSTART:20071104T020000
TZOFFSETFROM:+0700
TZOFFSETTO:+0800
TZNAME:HKT
END:STANDARD
END:VTIMEZONE
BEGIN:VEVENT
DTSTAMP;TZID=Asia/Hong_Kong:20260420T165616
DTSTART;TZID=Asia/Hong_Kong:20170112T143000
DTEND;TZID=Asia/Hong_Kong:20170112T173000
LOCATION:Room 4503, 4/F  (Lifts 25/26) HKUST
SUMMARY:PhD in Chemistry - Synethesis of C9-C17 and C18-C26 Fragments of Amphidinolide C Congeners and the Coupling Reactions
UID:26630
END:VEVENT
END:VCALENDAR