BEGIN:VCALENDAR
PRODID:-//HKUST Drupal Platform//EN
VERSION:2.0
BEGIN:VTIMEZONE
TZID:Asia/Hong_Kong
BEGIN:STANDARD
DTSTART:20071104T020000
TZOFFSETFROM:+0700
TZOFFSETTO:+0800
TZNAME:HKT
END:STANDARD
END:VTIMEZONE
BEGIN:VEVENT
DTSTAMP;TZID=Asia/Hong_Kong:20260420T213043
DTSTART;TZID=Asia/Hong_Kong:20170118T143000
DTEND;TZID=Asia/Hong_Kong:20170118T173000
LOCATION:Room 3494 (Lifts 25-26), 3/F Academic Building, HKUST
SUMMARY:PhD in Computer Science & Engg - Learning-based Dissimilarity Measure for Rigid and Non-rigid Medical Image Registration
UID:26592
END:VEVENT
END:VCALENDAR