BEGIN:VCALENDAR
PRODID:-//HKUST Drupal Platform//EN
VERSION:2.0
BEGIN:VTIMEZONE
TZID:Asia/Hong_Kong
BEGIN:STANDARD
DTSTART:20071104T020000
TZOFFSETFROM:+0700
TZOFFSETTO:+0800
TZNAME:HKT
END:STANDARD
END:VTIMEZONE
BEGIN:VEVENT
DTSTAMP;TZID=Asia/Hong_Kong:20260420T155736
DTSTART;TZID=Asia/Hong_Kong:20170118T143000
DTEND;TZID=Asia/Hong_Kong:20170118T163000
LOCATION:Room 3494 (lifts 25/26)
SUMMARY:PhD in Computer Science and Engineering - Learning-Based Dissimilarity Measure For Rigid and Non-Rigid Medical Image Registration
UID:26590
END:VEVENT
END:VCALENDAR