BEGIN:VCALENDAR
PRODID:-//HKUST Drupal Platform//EN
VERSION:2.0
BEGIN:VTIMEZONE
TZID:Asia/Hong_Kong
BEGIN:STANDARD
DTSTART:20071104T020000
TZOFFSETFROM:+0700
TZOFFSETTO:+0800
TZNAME:HKT
END:STANDARD
END:VTIMEZONE
BEGIN:VEVENT
DTSTAMP;TZID=Asia/Hong_Kong:20260420T201017
DTSTART;TZID=Asia/Hong_Kong:20170119T150000
DTEND;TZID=Asia/Hong_Kong:20170119T180000
LOCATION:Room 4503 (Lifts 25-26), 4/F Academic Building, HKUST
SUMMARY:MPhil in Life Science - The Role of the NO Pathway and its Upstream and Downstream Regulation of Larval Settlement of a Major Marine Soft-fouler Bugula Neritina
UID:26585
END:VEVENT
END:VCALENDAR