BEGIN:VCALENDAR
PRODID:-//HKUST Drupal Platform//EN
VERSION:2.0
BEGIN:VTIMEZONE
TZID:Asia/Hong_Kong
BEGIN:STANDARD
DTSTART:20071104T020000
TZOFFSETFROM:+0700
TZOFFSETTO:+0800
TZNAME:HKT
END:STANDARD
END:VTIMEZONE
BEGIN:VEVENT
DTSTAMP;TZID=Asia/Hong_Kong:20260420T202109
DTSTART;TZID=Asia/Hong_Kong:20170120T103000
DTEND;TZID=Asia/Hong_Kong:20170120T133000
LOCATION:Room 6573, 6/F (Lifts 29/30) HKUST All
SUMMARY:PhD in Chemistry - Tetravalent Cerium Complexes Supported by an Oxygen Tripodal Ligand: Synthesis, Characterization, and Reactivity
UID:26580
END:VEVENT
END:VCALENDAR