BEGIN:VCALENDAR
PRODID:-//HKUST Drupal Platform//EN
VERSION:2.0
BEGIN:VTIMEZONE
TZID:Asia/Hong_Kong
BEGIN:STANDARD
DTSTART:20071104T020000
TZOFFSETFROM:+0700
TZOFFSETTO:+0800
TZNAME:HKT
END:STANDARD
END:VTIMEZONE
BEGIN:VEVENT
DTSTAMP;TZID=Asia/Hong_Kong:20260420T190209
DTSTART;TZID=Asia/Hong_Kong:20170124T100000
DTEND;TZID=Asia/Hong_Kong:20170124T130000
LOCATION:Room 2463 (Lifts 25-26), 2/F Academic Building, HKUST
SUMMARY:MPhil in Electronic and Computer Engineering - CMOS Fully Integrated Coulomb Counter For High Density Li-Ion Battery
UID:26567
END:VEVENT
END:VCALENDAR