BEGIN:VCALENDAR
PRODID:-//HKUST Drupal Platform//EN
VERSION:2.0
BEGIN:VTIMEZONE
TZID:Asia/Hong_Kong
BEGIN:STANDARD
DTSTART:20071104T020000
TZOFFSETFROM:+0700
TZOFFSETTO:+0800
TZNAME:HKT
END:STANDARD
END:VTIMEZONE
BEGIN:VEVENT
DTSTAMP;TZID=Asia/Hong_Kong:20260420T213043
DTSTART;TZID=Asia/Hong_Kong:20170125T100000
DTEND;TZID=Asia/Hong_Kong:20170125T130000
LOCATION:Room 4503 (Lifts 25-26), 4/F Academic Building, HKUST
SUMMARY:PhD in Chemistry - Synthesis of Dye-doped Silica Nanoparticles and Their Application in Lateral Flow Assays
UID:26555
END:VEVENT
END:VCALENDAR