BEGIN:VCALENDAR
PRODID:-//HKUST Drupal Platform//EN
VERSION:2.0
BEGIN:VTIMEZONE
TZID:Asia/Hong_Kong
BEGIN:STANDARD
DTSTART:20071104T020000
TZOFFSETFROM:+0700
TZOFFSETTO:+0800
TZNAME:HKT
END:STANDARD
END:VTIMEZONE
BEGIN:VEVENT
DTSTAMP;TZID=Asia/Hong_Kong:20260420T155736
DTSTART;TZID=Asia/Hong_Kong:20170217T153000
DTEND;TZID=Asia/Hong_Kong:20170217T183000
LOCATION:Room 4475 (Lifts 25-26), 4/F Academic Building, HKUST
SUMMARY:PhD in Electronic & Comp Engg - Characterization, Design and Optimization for Self-Adaptive Energy-Efficient Multicore Systems
UID:26508
END:VEVENT
END:VCALENDAR