BEGIN:VCALENDAR
PRODID:-//HKUST Drupal Platform//EN
VERSION:2.0
BEGIN:VTIMEZONE
TZID:Asia/Hong_Kong
BEGIN:STANDARD
DTSTART:20071104T020000
TZOFFSETFROM:+0700
TZOFFSETTO:+0800
TZNAME:HKT
END:STANDARD
END:VTIMEZONE
BEGIN:VEVENT
DTSTAMP;TZID=Asia/Hong_Kong:20260420T160510
DTSTART;TZID=Asia/Hong_Kong:20170221T110000
DTEND;TZID=Asia/Hong_Kong:20170221T140000
LOCATION:Room 4475 (Lifts 25-26), 4/F Academic Building, HKUST, HKUST
SUMMARY:MPhil in Electronic & Comp Engg - The Design, Prototyping, Modeling and Flight Tests of a Vertical Take-off and Landing (VTOL) Unmanned Aerial Vehicle (UAV)
UID:26496
END:VEVENT
END:VCALENDAR