BEGIN:VCALENDAR
PRODID:-//HKUST Drupal Platform//EN
VERSION:2.0
BEGIN:VTIMEZONE
TZID:Asia/Hong_Kong
BEGIN:STANDARD
DTSTART:20071104T020000
TZOFFSETFROM:+0700
TZOFFSETTO:+0800
TZNAME:HKT
END:STANDARD
END:VTIMEZONE
BEGIN:VEVENT
DTSTAMP;TZID=Asia/Hong_Kong:20260420T155736
DTSTART;TZID=Asia/Hong_Kong:20170227T110000
DTEND;TZID=Asia/Hong_Kong:20170227T140000
LOCATION:Room 4475 (Lifts 25-26), 4/F Academic Building, HKUST
SUMMARY:PhD in Computer Science & Engg - Distant Domain Transfer Learning
UID:26476
END:VEVENT
END:VCALENDAR