BEGIN:VCALENDAR
PRODID:-//HKUST Drupal Platform//EN
VERSION:2.0
BEGIN:VTIMEZONE
TZID:Asia/Hong_Kong
BEGIN:STANDARD
DTSTART:20071104T020000
TZOFFSETFROM:+0700
TZOFFSETTO:+0800
TZNAME:HKT
END:STANDARD
END:VTIMEZONE
BEGIN:VEVENT
DTSTAMP;TZID=Asia/Hong_Kong:20260420T155644
DTSTART;TZID=Asia/Hong_Kong:20170321T100000
DTEND;TZID=Asia/Hong_Kong:20170321T130000
LOCATION:Room 1504 (Lifts 25-26), 1/F Academic Building, HKUST
SUMMARY:MPhil in Bioengineering - Elucidating Protein Dynamics and Protein-Protein Interactions using Computer Modeling and Simulations
UID:26411
END:VEVENT
END:VCALENDAR