BEGIN:VCALENDAR
PRODID:-//HKUST Drupal Platform//EN
VERSION:2.0
BEGIN:VTIMEZONE
TZID:Asia/Hong_Kong
BEGIN:STANDARD
DTSTART:20071104T020000
TZOFFSETFROM:+0700
TZOFFSETTO:+0800
TZNAME:HKT
END:STANDARD
END:VTIMEZONE
BEGIN:VEVENT
DTSTAMP;TZID=Asia/Hong_Kong:20260420T155735
DTSTART;TZID=Asia/Hong_Kong:20170406T143000
DTEND;TZID=Asia/Hong_Kong:20170406T163000
LOCATION:Room 4472 (lifts 25/26)
SUMMARY:PhD in Computer Science and Engineering - TOWARDS ENERGY-EFFICIENT DATA TRANSMISSION ON MOBILE DEVICES
UID:26349
END:VEVENT
END:VCALENDAR