BEGIN:VCALENDAR
PRODID:-//HKUST Drupal Platform//EN
VERSION:2.0
BEGIN:VTIMEZONE
TZID:Asia/Hong_Kong
BEGIN:STANDARD
DTSTART:20071104T020000
TZOFFSETFROM:+0700
TZOFFSETTO:+0800
TZNAME:HKT
END:STANDARD
END:VTIMEZONE
BEGIN:VEVENT
DTSTAMP;TZID=Asia/Hong_Kong:20260420T190207
DTSTART;TZID=Asia/Hong_Kong:20170504T100000
DTEND;TZID=Asia/Hong_Kong:20170504T130000
LOCATION:Room 1505 (opposite to LT-G), 1/F Academic Building, HKUST
SUMMARY:MPhil in Physics - Two-dimensional Transition Metal Dichalcogenides Field Effect Transistors and van der Waals Heterojunctions
UID:26275
END:VEVENT
END:VCALENDAR