BEGIN:VCALENDAR
PRODID:-//HKUST Drupal Platform//EN
VERSION:2.0
BEGIN:VTIMEZONE
TZID:Asia/Hong_Kong
BEGIN:STANDARD
DTSTART:20071104T020000
TZOFFSETFROM:+0700
TZOFFSETTO:+0800
TZNAME:HKT
END:STANDARD
END:VTIMEZONE
BEGIN:VEVENT
DTSTAMP;TZID=Asia/Hong_Kong:20260420T155735
DTSTART;TZID=Asia/Hong_Kong:20170504T163000
DTEND;TZID=Asia/Hong_Kong:20170504T193000
LOCATION:Room 5562 (Lifts 27-28), 5/F Academic Building, HKUST
SUMMARY:PhD in Mechanical Engineering - Nano-Carbons based Optimization of Utilization of Lead Acid Battery and Electrochemical Reduction of Graphene Oxide Paper
UID:26266
END:VEVENT
END:VCALENDAR