BEGIN:VCALENDAR
PRODID:-//HKUST Drupal Platform//EN
VERSION:2.0
BEGIN:VTIMEZONE
TZID:Asia/Hong_Kong
BEGIN:STANDARD
DTSTART:20071104T020000
TZOFFSETFROM:+0700
TZOFFSETTO:+0800
TZNAME:HKT
END:STANDARD
END:VTIMEZONE
BEGIN:VEVENT
DTSTAMP;TZID=Asia/Hong_Kong:20260420T155737
DTSTART;TZID=Asia/Hong_Kong:20170510T100000
DTEND;TZID=Asia/Hong_Kong:20170510T130000
LOCATION:Room 3494, 3/F (lifts 25-26), Academic Building, HKUST
SUMMARY:PhD in Mathematics - Two Research Problems in Stock Market Microstructure
UID:26249
END:VEVENT
END:VCALENDAR