BEGIN:VCALENDAR
PRODID:-//HKUST Drupal Platform//EN
VERSION:2.0
BEGIN:VTIMEZONE
TZID:Asia/Hong_Kong
BEGIN:STANDARD
DTSTART:20071104T020000
TZOFFSETFROM:+0700
TZOFFSETTO:+0800
TZNAME:HKT
END:STANDARD
END:VTIMEZONE
BEGIN:VEVENT
DTSTAMP;TZID=Asia/Hong_Kong:20260420T185838
DTSTART;TZID=Asia/Hong_Kong:20170516T160000
DTEND;TZID=Asia/Hong_Kong:20170516T190000
LOCATION:Room 2302 (Lifts 17-18), 2/F Academic Building, HKUST
SUMMARY:PhD in Computer Science & Engg - On Graph Sparsifiers, Graph Sketches, Fast Linear Solvers and Network Flow Optimization
UID:26214
END:VEVENT
END:VCALENDAR