BEGIN:VCALENDAR
PRODID:-//HKUST Drupal Platform//EN
VERSION:2.0
BEGIN:VTIMEZONE
TZID:Asia/Hong_Kong
BEGIN:STANDARD
DTSTART:20071104T020000
TZOFFSETFROM:+0700
TZOFFSETTO:+0800
TZNAME:HKT
END:STANDARD
END:VTIMEZONE
BEGIN:VEVENT
DTSTAMP;TZID=Asia/Hong_Kong:20260420T160510
DTSTART;TZID=Asia/Hong_Kong:20170524T133000
DTEND;TZID=Asia/Hong_Kong:20170524T163000
LOCATION:Room 4472 (Lifts 25-26). 4/F Academic Building, HKUST
SUMMARY:MPhil in Computer Science & Engg - The Emotional Characteristics of Section String Instruments with Different Pitch and Dynamics
UID:26185
END:VEVENT
END:VCALENDAR