BEGIN:VCALENDAR
PRODID:-//HKUST Drupal Platform//EN
VERSION:2.0
BEGIN:VTIMEZONE
TZID:Asia/Hong_Kong
BEGIN:STANDARD
DTSTART:20071104T020000
TZOFFSETFROM:+0700
TZOFFSETTO:+0800
TZNAME:HKT
END:STANDARD
END:VTIMEZONE
BEGIN:VEVENT
DTSTAMP;TZID=Asia/Hong_Kong:20260420T165612
DTSTART;TZID=Asia/Hong_Kong:20170603T140000
DTEND;TZID=Asia/Hong_Kong:20170603T150000
LOCATION:Hong Kong Maritime Museum, Central Pier No. 8
SUMMARY:Visit to Hong Kong Maritime Museum 參觀香港海事博物館
UID:26142
END:VEVENT
END:VCALENDAR