BEGIN:VCALENDAR
PRODID:-//HKUST Drupal Platform//EN
VERSION:2.0
BEGIN:VTIMEZONE
TZID:Asia/Hong_Kong
BEGIN:STANDARD
DTSTART:20071104T020000
TZOFFSETFROM:+0700
TZOFFSETTO:+0800
TZNAME:HKT
END:STANDARD
END:VTIMEZONE
BEGIN:VEVENT
DTSTAMP;TZID=Asia/Hong_Kong:20260420T214846
DTSTART;TZID=Asia/Hong_Kong:20170606T103000
DTEND;TZID=Asia/Hong_Kong:20170606T113000
LOCATION:Room 4047 (LSK Business Building)
SUMMARY:PhD in Marketing - How Credible Are Up-selling Messages? Asymmetric Effects of Message Valence on Trust
UID:26132
END:VEVENT
END:VCALENDAR