BEGIN:VCALENDAR
PRODID:-//HKUST Drupal Platform//EN
VERSION:2.0
BEGIN:VTIMEZONE
TZID:Asia/Hong_Kong
BEGIN:STANDARD
DTSTART:20071104T020000
TZOFFSETFROM:+0700
TZOFFSETTO:+0800
TZNAME:HKT
END:STANDARD
END:VTIMEZONE
BEGIN:VEVENT
DTSTAMP;TZID=Asia/Hong_Kong:20260420T172724
DTSTART;TZID=Asia/Hong_Kong:20170614T150000
DTEND;TZID=Asia/Hong_Kong:20170614T180000
LOCATION:Room 4472 (Lifts 25-26) 4/F, Academic Building, HKUST
SUMMARY:PhD in Mathematics - Analysis of Epitaxial Growth and Dislocation Models at Different Scales
UID:26086
END:VEVENT
END:VCALENDAR